BEGIN:VCALENDAR
VERSION:2.0
PRODID:-//wp-events-plugin.com//7.1.7//EN
TZID:Europe/Brussels
X-WR-TIMEZONE:Europe/Brussels
BEGIN:VEVENT
UID:89@esba.be
DTSTART;TZID=Europe/Brussels:20221223T133000
DTEND;TZID=Europe/Brussels:20221223T143000
DTSTAMP:20240706T060014Z
URL:https://esba.be/events/distribution-de-cougnous/
SUMMARY:Distribution de Cougnous
DESCRIPTION:Les parents de l'Association des parents distribuent des cougno
 us aux enfants\, dans les classes\, avec du cacao.
CATEGORIES:APE
END:VEVENT
BEGIN:VTIMEZONE
TZID:Europe/Brussels
X-LIC-LOCATION:Europe/Brussels
BEGIN:STANDARD
DTSTART:20221030T020000
TZOFFSETFROM:+0200
TZOFFSETTO:+0100
TZNAME:CET
END:STANDARD
END:VTIMEZONE
END:VCALENDAR