BEGIN:VCALENDAR
VERSION:2.0
PRODID:-//wp-events-plugin.com//7.1.7//EN
TZID:Europe/Brussels
X-WR-TIMEZONE:Europe/Brussels
BEGIN:VEVENT
UID:90@esba.be
DTSTART;TZID=Europe/Brussels;VALUE=DATE:20221206
DTEND;TZID=Europe/Brussels;VALUE=DATE:20221207
DTSTAMP:20240706T060014Z
URL:https://esba.be/events/journee-pedagogique-4/
SUMMARY:Journée pédagogique
DESCRIPTION:Les enseignants sont en formation.\n\nL'école est fermée.\n\n
 Possibilité de garder sur réservation : auxtalentscaches@gmail.com
CATEGORIES:Journée pédagogique
END:VEVENT
BEGIN:VTIMEZONE
TZID:Europe/Brussels
X-LIC-LOCATION:Europe/Brussels
BEGIN:STANDARD
DTSTART:20221030T020000
TZOFFSETFROM:+0200
TZOFFSETTO:+0100
TZNAME:CET
END:STANDARD
END:VTIMEZONE
END:VCALENDAR