BEGIN:VCALENDAR
VERSION:2.0
PRODID:-//wp-events-plugin.com//7.1.7//EN
TZID:Europe/Brussels
X-WR-TIMEZONE:Europe/Brussels
BEGIN:VEVENT
UID:45@esba.be
DTSTART;TZID=Europe/Brussels:20200930T083000
DTEND;TZID=Europe/Brussels:20200930T113000
DTSTAMP:20240706T060019Z
URL:https://esba.be/events/mercredi-30-septembre-m3-a-p6-marche-parrainee/
SUMMARY:Mercredi 30 septembre :  M3 à P6 - Marche parrainée
DESCRIPTION:8h30-11h30 : M3 à P6 - Marche parrainée – prévoir un petit
  sac à dos avec une gourde et une collation. Prévoir veste et souliers e
 n fonction de la météo.
ATTACH;FMTTYPE=image/jpeg:https://esba.be/wp-content/uploads/et_temp/2019-
 09-16_11h53_25.png
CATEGORIES:Activité
END:VEVENT
BEGIN:VTIMEZONE
TZID:Europe/Brussels
X-LIC-LOCATION:Europe/Brussels
BEGIN:DAYLIGHT
DTSTART:20200329T030000
TZOFFSETFROM:+0100
TZOFFSETTO:+0200
TZNAME:CEST
END:DAYLIGHT
END:VTIMEZONE
END:VCALENDAR