BEGIN:VCALENDAR
VERSION:2.0
PRODID:-//wp-events-plugin.com//7.1.7//EN
TZID:Europe/Brussels
X-WR-TIMEZONE:Europe/Brussels
BEGIN:VEVENT
UID:87@esba.be
DTSTART;TZID=Europe/Brussels:20221215T083000
DTEND;TZID=Europe/Brussels:20221215T120000
DTSTAMP:20240706T060015Z
URL:https://esba.be/events/visite-medicale-p2-madame-eulalie/
SUMMARY:Visite médicale - P2 Madame Eulalie
DESCRIPTION:Départ en bus à 8h30.
CATEGORIES:Activité
END:VEVENT
BEGIN:VTIMEZONE
TZID:Europe/Brussels
X-LIC-LOCATION:Europe/Brussels
BEGIN:STANDARD
DTSTART:20221030T020000
TZOFFSETFROM:+0200
TZOFFSETTO:+0100
TZNAME:CET
END:STANDARD
END:VTIMEZONE
END:VCALENDAR